BEGIN:VCALENDAR
VERSION:2.0
PRODID:-//Borough of Middletown, PA - ECPv6.15.20//NONSGML v1.0//EN
CALSCALE:GREGORIAN
METHOD:PUBLISH
X-WR-CALNAME:Borough of Middletown, PA
X-ORIGINAL-URL:https://middletownborough.com
X-WR-CALDESC:Events for Borough of Middletown, PA
REFRESH-INTERVAL;VALUE=DURATION:PT1H
X-Robots-Tag:noindex
X-PUBLISHED-TTL:PT1H
BEGIN:VTIMEZONE
TZID:America/New_York
BEGIN:DAYLIGHT
TZOFFSETFROM:-0500
TZOFFSETTO:-0400
TZNAME:EDT
DTSTART:20160313T070000
END:DAYLIGHT
BEGIN:STANDARD
TZOFFSETFROM:-0400
TZOFFSETTO:-0500
TZNAME:EST
DTSTART:20161106T060000
END:STANDARD
BEGIN:DAYLIGHT
TZOFFSETFROM:-0500
TZOFFSETTO:-0400
TZNAME:EDT
DTSTART:20170312T070000
END:DAYLIGHT
BEGIN:STANDARD
TZOFFSETFROM:-0400
TZOFFSETTO:-0500
TZNAME:EST
DTSTART:20171105T060000
END:STANDARD
BEGIN:DAYLIGHT
TZOFFSETFROM:-0500
TZOFFSETTO:-0400
TZNAME:EDT
DTSTART:20180311T070000
END:DAYLIGHT
BEGIN:STANDARD
TZOFFSETFROM:-0400
TZOFFSETTO:-0500
TZNAME:EST
DTSTART:20181104T060000
END:STANDARD
BEGIN:DAYLIGHT
TZOFFSETFROM:-0500
TZOFFSETTO:-0400
TZNAME:EDT
DTSTART:20190310T070000
END:DAYLIGHT
BEGIN:STANDARD
TZOFFSETFROM:-0400
TZOFFSETTO:-0500
TZNAME:EST
DTSTART:20191103T060000
END:STANDARD
BEGIN:DAYLIGHT
TZOFFSETFROM:-0500
TZOFFSETTO:-0400
TZNAME:EDT
DTSTART:20200308T070000
END:DAYLIGHT
BEGIN:STANDARD
TZOFFSETFROM:-0400
TZOFFSETTO:-0500
TZNAME:EST
DTSTART:20201101T060000
END:STANDARD
END:VTIMEZONE
BEGIN:VEVENT
DTSTART;TZID=America/New_York:20190420T100000
DTEND;TZID=America/New_York:20190420T113000
DTSTAMP:20260424T191532
CREATED:20190403T125517Z
LAST-MODIFIED:20190403T125541Z
UID:10000881-1555754400-1555759800@middletownborough.com
SUMMARY:Easter Egg Hunt - April 20 - 10-11:30am at Hoffer Park
DESCRIPTION:Easter-Egg-Hunt-Flyer-2019
URL:https://middletownborough.com/event/easter-egg-hunt-april-20-10-1130am-at-hoffer-park/
LOCATION:Hoffer Park\, Mill Street and Race Street\, Middletown\, PA\, 17057\, United States
ORGANIZER;CN="Middletown Area Recreation Alliance":MAILTO:mara@raiderweb.org
GEO:40.1925964;-76.7258736
X-APPLE-STRUCTURED-LOCATION;VALUE=URI;X-ADDRESS=Hoffer Park Mill Street and Race Street Middletown PA 17057 United States;X-APPLE-RADIUS=500;X-TITLE=Mill Street and Race Street:geo:-76.7258736,40.1925964
END:VEVENT
BEGIN:VEVENT
DTSTART;TZID=America/New_York:20180807T180000
DTEND;TZID=America/New_York:20180807T210000
DTSTAMP:20260424T191532
CREATED:20171207T145723Z
LAST-MODIFIED:20171207T152043Z
UID:10000780-1533664800-1533675600@middletownborough.com
SUMMARY:National Night Out
DESCRIPTION:
URL:https://middletownborough.com/event/national-night-out/
LOCATION:Hoffer Park\, Mill Street and Race Street\, Middletown\, PA\, 17057\, United States
GEO:40.1925964;-76.7258736
X-APPLE-STRUCTURED-LOCATION;VALUE=URI;X-ADDRESS=Hoffer Park Mill Street and Race Street Middletown PA 17057 United States;X-APPLE-RADIUS=500;X-TITLE=Mill Street and Race Street:geo:-76.7258736,40.1925964
END:VEVENT
BEGIN:VEVENT
DTSTART;TZID=America/New_York:20180609T100000
DTEND;TZID=America/New_York:20180609T170000
DTSTAMP:20260424T191532
CREATED:20180411T183256Z
LAST-MODIFIED:20180411T183550Z
UID:10000794-1528538400-1528563600@middletownborough.com
SUMMARY:Arts & Craft Fair
DESCRIPTION:This is the 43rd year for the Annual Arts & Craft Fair and it will be held at Hoffer Park here in Middletown on Saturday\, June 9\, 2018 from 10 a.m. to 5 p.m.  Proceeds benefit the Middletown Area Historical Society of Dauphin County.
URL:https://middletownborough.com/event/43rd-annual-arts-craft-fair/
LOCATION:Hoffer Park\, Mill Street and Race Street\, Middletown\, PA\, 17057\, United States
GEO:40.1925964;-76.7258736
X-APPLE-STRUCTURED-LOCATION;VALUE=URI;X-ADDRESS=Hoffer Park Mill Street and Race Street Middletown PA 17057 United States;X-APPLE-RADIUS=500;X-TITLE=Mill Street and Race Street:geo:-76.7258736,40.1925964
END:VEVENT
BEGIN:VEVENT
DTSTART;TZID=America/New_York:20170610T100000
DTEND;TZID=America/New_York:20170610T170000
DTSTAMP:20260424T191532
CREATED:20170427T135136Z
LAST-MODIFIED:20170427T140149Z
UID:10000646-1497088800-1497114000@middletownborough.com
SUMMARY:42nd Annual Arts & Crafts Fair
DESCRIPTION:Learn more at www.middletownareahistoricalsociety.org
URL:https://middletownborough.com/event/42nd-annual-arts-crafts-fair/
LOCATION:Hoffer Park\, Mill Street and Race Street\, Middletown\, PA\, 17057\, United States
GEO:40.1925964;-76.7258736
X-APPLE-STRUCTURED-LOCATION;VALUE=URI;X-ADDRESS=Hoffer Park Mill Street and Race Street Middletown PA 17057 United States;X-APPLE-RADIUS=500;X-TITLE=Mill Street and Race Street:geo:-76.7258736,40.1925964
END:VEVENT
END:VCALENDAR